Package: profileScoreDist Version: 1.35.0 Command: /Library/Frameworks/R.framework/Resources/bin/R CMD check --install=check:profileScoreDist.install-out.txt --library=/Library/Frameworks/R.framework/Resources/library --no-vignettes --timings profileScoreDist_1.35.0.tar.gz StartedAt: 2025-02-09 22:48:20 -0500 (Sun, 09 Feb 2025) EndedAt: 2025-02-09 22:48:58 -0500 (Sun, 09 Feb 2025) EllapsedTime: 37.4 seconds RetCode: 0 Status: OK CheckDir: profileScoreDist.Rcheck Warnings: 0