Package: profileScoreDist Version: 1.35.0 Command: /home/biocbuild/bbs-3.21-bioc/R/bin/R CMD INSTALL profileScoreDist StartedAt: 2025-02-09 15:12:58 -0500 (Sun, 09 Feb 2025) EndedAt: 2025-02-09 15:13:09 -0500 (Sun, 09 Feb 2025) EllapsedTime: 10.6 seconds RetCode: 0 Status: OK