Package: profileScoreDist Version: 1.35.0 Command: rm -rf profileScoreDist.buildbin-libdir && mkdir profileScoreDist.buildbin-libdir && E:\biocbuild\bbs-3.21-bioc\R\bin\R.exe CMD INSTALL --build --library=profileScoreDist.buildbin-libdir profileScoreDist_1.35.0.tar.gz StartedAt: 2025-02-10 08:25:00 -0500 (Mon, 10 Feb 2025) EndedAt: 2025-02-10 08:27:39 -0500 (Mon, 10 Feb 2025) EllapsedTime: 158.8 seconds RetCode: 0 Status: OK PackageFile: profileScoreDist_1.35.0.zip PackageFileSize: 668.6 KiB