Package: progeny Version: 1.29.0 Command: /Library/Frameworks/R.framework/Resources/bin/R CMD check --install=check:progeny.install-out.txt --library=/Library/Frameworks/R.framework/Resources/library --no-vignettes --timings progeny_1.29.0.tar.gz StartedAt: 2025-02-04 20:46:45 -0500 (Tue, 04 Feb 2025) EndedAt: 2025-02-04 20:47:28 -0500 (Tue, 04 Feb 2025) EllapsedTime: 43.5 seconds RetCode: 0 Status: OK CheckDir: progeny.Rcheck Warnings: 0