Package: progeny Version: 1.29.0 Command: /Library/Frameworks/R.framework/Resources/bin/R CMD INSTALL progeny StartedAt: 2025-02-04 15:10:10 -0500 (Tue, 04 Feb 2025) EndedAt: 2025-02-04 15:10:14 -0500 (Tue, 04 Feb 2025) EllapsedTime: 4.4 seconds RetCode: 0 Status: OK