Package: progeny Version: 1.29.0 Command: rm -rf progeny.buildbin-libdir && mkdir progeny.buildbin-libdir && /Users/biocbuild/BBS/utils/build-universal.sh progeny_1.29.0.tar.gz /Library/Frameworks/R.framework/Resources/bin/R progeny.buildbin-libdir StartedAt: 2025-02-04 00:49:24 -0500 (Tue, 04 Feb 2025) EndedAt: 2025-02-04 00:49:39 -0500 (Tue, 04 Feb 2025) EllapsedTime: 14.9 seconds RetCode: 0 Status: OK PackageFile: progeny_1.29.0.tgz PackageFileSize: 8.948 MiB