Package: progeny Version: 1.29.0 Command: /Library/Frameworks/R.framework/Resources/bin/R CMD check --install=check:progeny.install-out.txt --library=/Library/Frameworks/R.framework/Resources/library --no-vignettes --timings progeny_1.29.0.tar.gz StartedAt: 2025-02-03 22:34:09 -0500 (Mon, 03 Feb 2025) EndedAt: 2025-02-03 22:36:20 -0500 (Mon, 03 Feb 2025) EllapsedTime: 130.8 seconds RetCode: 0 Status: OK CheckDir: progeny.Rcheck Warnings: 0