Package: progeny Version: 1.29.0 Command: rm -rf progeny.buildbin-libdir && mkdir progeny.buildbin-libdir && E:\biocbuild\bbs-3.21-bioc\R\bin\R.exe CMD INSTALL --build --library=progeny.buildbin-libdir progeny_1.29.0.tar.gz StartedAt: 2025-02-10 08:25:01 -0500 (Mon, 10 Feb 2025) EndedAt: 2025-02-10 08:25:19 -0500 (Mon, 10 Feb 2025) EllapsedTime: 17.6 seconds RetCode: 0 Status: OK PackageFile: progeny_1.29.0.zip PackageFileSize: 8.811 MiB