Package: progeny Version: 1.29.0 Command: E:\biocbuild\bbs-3.21-bioc\R\bin\R.exe CMD check --no-multiarch --install=check:progeny.install-out.txt --library=E:\biocbuild\bbs-3.21-bioc\R\library --no-vignettes --timings progeny_1.29.0.tar.gz StartedAt: 2025-02-10 04:16:53 -0500 (Mon, 10 Feb 2025) EndedAt: 2025-02-10 04:19:12 -0500 (Mon, 10 Feb 2025) EllapsedTime: 139.3 seconds RetCode: 0 Status: OK CheckDir: progeny.Rcheck Warnings: 0