Package: progeny Version: 1.29.0 Command: E:\biocbuild\bbs-3.21-bioc\R\bin\R.exe CMD INSTALL progeny StartedAt: 2025-02-09 15:49:52 -0500 (Sun, 09 Feb 2025) EndedAt: 2025-02-09 15:50:09 -0500 (Sun, 09 Feb 2025) EllapsedTime: 16.6 seconds RetCode: 0 Status: OK