Package: projectR Version: 1.23.0 Command: /Library/Frameworks/R.framework/Resources/bin/R CMD build --keep-empty-dirs --no-resave-data projectR StartedAt: 2025-02-09 17:17:36 -0500 (Sun, 09 Feb 2025) EndedAt: 2025-02-09 17:17:57 -0500 (Sun, 09 Feb 2025) EllapsedTime: 21.3 seconds RetCode: 0 Status: OK PackageFile: projectR_1.23.0.tar.gz PackageFileSize: 5.877 MiB