Package: projectR Version: 1.23.0 Command: /Library/Frameworks/R.framework/Resources/bin/R CMD check --install=check:projectR.install-out.txt --library=/Library/Frameworks/R.framework/Resources/library --no-vignettes --timings projectR_1.23.0.tar.gz StartedAt: 2025-02-09 20:45:13 -0500 (Sun, 09 Feb 2025) EndedAt: 2025-02-09 20:46:08 -0500 (Sun, 09 Feb 2025) EllapsedTime: 55.6 seconds RetCode: 0 Status: OK CheckDir: projectR.Rcheck Warnings: 0