Package: projectR Version: 1.23.0 Command: /home/biocbuild/R/R/bin/R CMD check --install=check:projectR.install-out.txt --library=/home/biocbuild/R/R/site-library --no-vignettes --timings projectR_1.23.0.tar.gz StartedAt: 2025-01-28 14:05:23 -0000 (Tue, 28 Jan 2025) EndedAt: 2025-01-28 14:08:34 -0000 (Tue, 28 Jan 2025) EllapsedTime: 191.1 seconds RetCode: 0 Status: OK CheckDir: projectR.Rcheck Warnings: 0