Package: projectR Version: 1.23.0 Command: /home/biocbuild/bbs-3.21-bioc/R/bin/R CMD check --install=check:projectR.install-out.txt --library=/home/biocbuild/bbs-3.21-bioc/R/site-library --timings projectR_1.23.0.tar.gz StartedAt: 2025-02-10 01:29:24 -0500 (Mon, 10 Feb 2025) EndedAt: 2025-02-10 01:32:19 -0500 (Mon, 10 Feb 2025) EllapsedTime: 175.2 seconds RetCode: 0 Status: OK CheckDir: projectR.Rcheck Warnings: 0