Package: projectR Version: 1.23.0 Command: /home/biocbuild/bbs-3.21-bioc/R/bin/R CMD INSTALL projectR StartedAt: 2025-02-09 15:14:02 -0500 (Sun, 09 Feb 2025) EndedAt: 2025-02-09 15:14:19 -0500 (Sun, 09 Feb 2025) EllapsedTime: 17.3 seconds RetCode: 0 Status: OK