Package: projectR Version: 1.23.0 Command: rm -rf projectR.buildbin-libdir && mkdir projectR.buildbin-libdir && E:\biocbuild\bbs-3.21-bioc\R\bin\R.exe CMD INSTALL --build --library=projectR.buildbin-libdir projectR_1.23.0.tar.gz StartedAt: 2025-02-10 08:25:08 -0500 (Mon, 10 Feb 2025) EndedAt: 2025-02-10 08:25:48 -0500 (Mon, 10 Feb 2025) EllapsedTime: 39.8 seconds RetCode: 0 Status: OK PackageFile: projectR_1.23.0.zip PackageFileSize: 6.601 MiB