Package: projectR Version: 1.23.0 Command: E:\biocbuild\bbs-3.21-bioc\R\bin\R.exe CMD check --no-multiarch --install=check:projectR.install-out.txt --library=E:\biocbuild\bbs-3.21-bioc\R\library --no-vignettes --timings projectR_1.23.0.tar.gz StartedAt: 2025-02-10 04:17:09 -0500 (Mon, 10 Feb 2025) EndedAt: 2025-02-10 04:20:11 -0500 (Mon, 10 Feb 2025) EllapsedTime: 181.4 seconds RetCode: 0 Status: OK CheckDir: projectR.Rcheck Warnings: 0