Package: projectR Version: 1.23.0 Command: E:\biocbuild\bbs-3.21-bioc\R\bin\R.exe CMD INSTALL projectR StartedAt: 2025-02-09 15:57:36 -0500 (Sun, 09 Feb 2025) EndedAt: 2025-02-09 15:58:18 -0500 (Sun, 09 Feb 2025) EllapsedTime: 42.3 seconds RetCode: 0 Status: OK