Package: protGear Version: 1.11.0 Command: /Library/Frameworks/R.framework/Resources/bin/R CMD INSTALL protGear StartedAt: 2025-02-12 15:43:47 -0500 (Wed, 12 Feb 2025) EndedAt: 2025-02-12 15:44:22 -0500 (Wed, 12 Feb 2025) EllapsedTime: 34.6 seconds RetCode: 0 Status: OK