Package: protGear Version: 1.11.0 Command: /home/biocbuild/bbs-3.21-bioc/R/bin/R CMD check --install=check:protGear.install-out.txt --library=/home/biocbuild/bbs-3.21-bioc/R/site-library --timings protGear_1.11.0.tar.gz StartedAt: 2025-02-10 01:31:33 -0500 (Mon, 10 Feb 2025) EndedAt: 2025-02-10 01:34:59 -0500 (Mon, 10 Feb 2025) EllapsedTime: 205.3 seconds RetCode: 0 Status: OK CheckDir: protGear.Rcheck Warnings: 0