Package: protGear Version: 1.11.0 Command: rm -rf protGear.buildbin-libdir && mkdir protGear.buildbin-libdir && E:\biocbuild\bbs-3.21-bioc\R\bin\R.exe CMD INSTALL --build --library=protGear.buildbin-libdir protGear_1.11.0.tar.gz StartedAt: 2025-02-10 08:25:44 -0500 (Mon, 10 Feb 2025) EndedAt: 2025-02-10 08:27:11 -0500 (Mon, 10 Feb 2025) EllapsedTime: 87.6 seconds RetCode: 0 Status: OK PackageFile: protGear_1.11.0.zip PackageFileSize: 1.829 MiB