Package: protGear Version: 1.11.0 Command: E:\biocbuild\bbs-3.21-bioc\R\bin\R.exe CMD INSTALL protGear StartedAt: 2025-02-12 17:00:34 -0500 (Wed, 12 Feb 2025) EndedAt: 2025-02-12 17:01:12 -0500 (Wed, 12 Feb 2025) EllapsedTime: 38.5 seconds RetCode: 0 Status: OK