Package: proteinProfiles Version: 1.47.0 Command: rm -rf proteinProfiles.buildbin-libdir && mkdir proteinProfiles.buildbin-libdir && /Users/biocbuild/BBS/utils/build-universal.sh proteinProfiles_1.47.0.tar.gz /Library/Frameworks/R.framework/Resources/bin/R proteinProfiles.buildbin-libdir StartedAt: 2025-02-09 22:25:54 -0500 (Sun, 09 Feb 2025) EndedAt: 2025-02-09 22:25:56 -0500 (Sun, 09 Feb 2025) EllapsedTime: 2.1 seconds RetCode: 0 Status: OK PackageFile: proteinProfiles_1.47.0.tgz PackageFileSize: 403.6 KiB