Package: proteinProfiles Version: 1.47.0 Command: /Library/Frameworks/R.framework/Resources/bin/R CMD build --keep-empty-dirs --no-resave-data proteinProfiles StartedAt: 2025-02-09 17:17:51 -0500 (Sun, 09 Feb 2025) EndedAt: 2025-02-09 17:17:58 -0500 (Sun, 09 Feb 2025) EllapsedTime: 7.1 seconds RetCode: 0 Status: OK PackageFile: proteinProfiles_1.47.0.tar.gz PackageFileSize: 384.4 KiB