Package: proteinProfiles Version: 1.47.0 Command: /Library/Frameworks/R.framework/Resources/bin/R CMD build --keep-empty-dirs --no-resave-data proteinProfiles StartedAt: 2025-02-12 17:54:46 -0500 (Wed, 12 Feb 2025) EndedAt: 2025-02-12 17:55:01 -0500 (Wed, 12 Feb 2025) EllapsedTime: 14.8 seconds RetCode: 0 Status: OK PackageFile: proteinProfiles_1.47.0.tar.gz PackageFileSize: 384.1 KiB