Package: proteinProfiles Version: 1.47.0 Command: /Library/Frameworks/R.framework/Resources/bin/R CMD INSTALL proteinProfiles StartedAt: 2025-02-12 15:04:10 -0500 (Wed, 12 Feb 2025) EndedAt: 2025-02-12 15:04:54 -0500 (Wed, 12 Feb 2025) EllapsedTime: 43.4 seconds RetCode: 0 Status: OK