Package: proteinProfiles Version: 1.47.0 Command: /home/biocbuild/bbs-3.21-bioc/R/bin/R CMD build --keep-empty-dirs --no-resave-data proteinProfiles StartedAt: 2025-02-12 18:40:18 -0500 (Wed, 12 Feb 2025) EndedAt: 2025-02-12 18:40:29 -0500 (Wed, 12 Feb 2025) EllapsedTime: 11.0 seconds RetCode: 0 Status: OK PackageFile: proteinProfiles_1.47.0.tar.gz PackageFileSize: 383.8 KiB