Package: proteinProfiles Version: 1.47.0 Command: /home/biocbuild/bbs-3.21-bioc/R/bin/R CMD check --install=check:proteinProfiles.install-out.txt --library=/home/biocbuild/bbs-3.21-bioc/R/site-library --timings proteinProfiles_1.47.0.tar.gz StartedAt: 2025-02-10 01:30:49 -0500 (Mon, 10 Feb 2025) EndedAt: 2025-02-10 01:31:13 -0500 (Mon, 10 Feb 2025) EllapsedTime: 24.0 seconds RetCode: 0 Status: OK CheckDir: proteinProfiles.Rcheck Warnings: 0