Package: proteinProfiles Version: 1.47.0 Command: /home/biocbuild/bbs-3.21-bioc/R/bin/R CMD INSTALL proteinProfiles StartedAt: 2025-02-12 15:11:07 -0500 (Wed, 12 Feb 2025) EndedAt: 2025-02-12 15:11:18 -0500 (Wed, 12 Feb 2025) EllapsedTime: 11.7 seconds RetCode: 0 Status: OK