Package: proteinProfiles Version: 1.47.0 Command: rm -rf proteinProfiles.buildbin-libdir && mkdir proteinProfiles.buildbin-libdir && E:\biocbuild\bbs-3.21-bioc\R\bin\R.exe CMD INSTALL --build --library=proteinProfiles.buildbin-libdir proteinProfiles_1.47.0.tar.gz StartedAt: 2025-02-10 08:25:39 -0500 (Mon, 10 Feb 2025) EndedAt: 2025-02-10 08:26:08 -0500 (Mon, 10 Feb 2025) EllapsedTime: 29.7 seconds RetCode: 0 Status: OK PackageFile: proteinProfiles_1.47.0.zip PackageFileSize: 264.5 KiB