Package: proteinProfiles Version: 1.47.0 Command: chmod a+r proteinProfiles -R && E:\biocbuild\bbs-3.21-bioc\R\bin\R.exe CMD build --keep-empty-dirs --no-resave-data proteinProfiles StartedAt: 2025-02-09 20:53:36 -0500 (Sun, 09 Feb 2025) EndedAt: 2025-02-09 20:54:06 -0500 (Sun, 09 Feb 2025) EllapsedTime: 30.0 seconds RetCode: 0 Status: OK PackageFile: proteinProfiles_1.47.0.tar.gz PackageFileSize: 244.3 KiB