Package: psichomics Version: 1.33.0 Command: /Library/Frameworks/R.framework/Resources/bin/R CMD build --keep-empty-dirs --no-resave-data psichomics StartedAt: 2025-02-12 17:54:59 -0500 (Wed, 12 Feb 2025) EndedAt: 2025-02-12 17:57:09 -0500 (Wed, 12 Feb 2025) EllapsedTime: 130.3 seconds RetCode: 0 Status: OK PackageFile: psichomics_1.33.0.tar.gz PackageFileSize: 6.12 MiB