Package: psichomics Version: 1.33.0 Command: /home/biocbuild/bbs-3.21-bioc/R/bin/R CMD INSTALL psichomics StartedAt: 2025-02-12 15:59:21 -0500 (Wed, 12 Feb 2025) EndedAt: 2025-02-12 16:00:37 -0500 (Wed, 12 Feb 2025) EllapsedTime: 75.6 seconds RetCode: 0 Status: OK