Package: psichomics Version: 1.33.0 Command: chmod a+r psichomics -R && E:\biocbuild\bbs-3.21-bioc\R\bin\R.exe CMD build --keep-empty-dirs --no-resave-data psichomics StartedAt: 2025-02-09 20:54:09 -0500 (Sun, 09 Feb 2025) EndedAt: 2025-02-09 20:58:19 -0500 (Sun, 09 Feb 2025) EllapsedTime: 249.8 seconds RetCode: 0 Status: OK PackageFile: psichomics_1.33.0.tar.gz PackageFileSize: 6.042 MiB