Package: ptairMS Version: 1.15.0 Command: /Library/Frameworks/R.framework/Resources/bin/R CMD check --install=check:ptairMS.install-out.txt --library=/Library/Frameworks/R.framework/Resources/library --no-vignettes --timings ptairMS_1.15.0.tar.gz StartedAt: 2025-02-03 21:23:27 -0500 (Mon, 03 Feb 2025) EndedAt: 2025-02-03 21:26:44 -0500 (Mon, 03 Feb 2025) EllapsedTime: 196.4 seconds RetCode: 1 Status: ERROR CheckDir: ptairMS.Rcheck Warnings: NA