Package: ptairMS Version: 1.15.0 Command: /Library/Frameworks/R.framework/Resources/bin/R CMD build --keep-empty-dirs --no-resave-data ptairMS StartedAt: 2025-02-09 18:01:41 -0500 (Sun, 09 Feb 2025) EndedAt: 2025-02-09 18:04:46 -0500 (Sun, 09 Feb 2025) EllapsedTime: 185.1 seconds RetCode: 0 Status: OK PackageFile: ptairMS_1.15.0.tar.gz PackageFileSize: 3.356 MiB