Package: ptairMS Version: 1.15.0 Command: /home/biocbuild/bbs-3.21-bioc/R/bin/R CMD build --keep-empty-dirs --no-resave-data ptairMS StartedAt: 2025-02-09 18:45:05 -0500 (Sun, 09 Feb 2025) EndedAt: 2025-02-09 18:47:50 -0500 (Sun, 09 Feb 2025) EllapsedTime: 165.2 seconds RetCode: 0 Status: OK PackageFile: ptairMS_1.15.0.tar.gz PackageFileSize: 3.411 MiB