Package: ptairMS Version: 1.15.0 Command: /home/biocbuild/bbs-3.21-bioc/R/bin/R CMD INSTALL ptairMS StartedAt: 2025-02-09 15:35:55 -0500 (Sun, 09 Feb 2025) EndedAt: 2025-02-09 15:36:15 -0500 (Sun, 09 Feb 2025) EllapsedTime: 20.3 seconds RetCode: 0 Status: OK