Package: ptairMS Version: 1.15.0 Command: rm -rf ptairMS.buildbin-libdir && mkdir ptairMS.buildbin-libdir && E:\biocbuild\bbs-3.21-bioc\R\bin\R.exe CMD INSTALL --build --library=ptairMS.buildbin-libdir ptairMS_1.15.0.tar.gz StartedAt: 2025-02-10 08:25:52 -0500 (Mon, 10 Feb 2025) EndedAt: 2025-02-10 08:29:22 -0500 (Mon, 10 Feb 2025) EllapsedTime: 210.2 seconds RetCode: 0 Status: OK PackageFile: ptairMS_1.15.0.zip PackageFileSize: 2.31 MiB