Package: ptairMS Version: 1.15.0 Command: chmod a+r ptairMS -R && E:\biocbuild\bbs-3.21-bioc\R\bin\R.exe CMD build --keep-empty-dirs --no-resave-data ptairMS StartedAt: 2025-02-09 20:54:18 -0500 (Sun, 09 Feb 2025) EndedAt: 2025-02-09 20:58:28 -0500 (Sun, 09 Feb 2025) EllapsedTime: 250.4 seconds RetCode: 0 Status: OK PackageFile: ptairMS_1.15.0.tar.gz PackageFileSize: 1.931 MiB