Package: ptairMS Version: 1.15.0 Command: E:\biocbuild\bbs-3.21-bioc\R\bin\R.exe CMD INSTALL ptairMS StartedAt: 2025-02-09 16:53:45 -0500 (Sun, 09 Feb 2025) EndedAt: 2025-02-09 16:54:40 -0500 (Sun, 09 Feb 2025) EllapsedTime: 55.3 seconds RetCode: 0 Status: OK