############################################################################## ############################################################################## ### ### Running command: ### ### /Library/Frameworks/R.framework/Resources/bin/R CMD build --keep-empty-dirs --no-resave-data puma ### ############################################################################## ############################################################################## * checking for file ‘puma/DESCRIPTION’ ... OK * preparing ‘puma’: * checking DESCRIPTION meta-information ... OK * cleaning src * installing the package to build vignettes ----------------------------------- ERROR: dependency ‘oligo’ is not available for package ‘puma’ Perhaps try a variation of: install.packages('oligo') * removing ‘/private/var/folders/r0/l4fjk6cj5xj0j3brt4bplpl40000gt/T/RtmpxXguhj/Rinst96eb21f9084e/puma’ ----------------------------------- ERROR: package installation failed