Package: puma Version: 3.49.0 Command: /Library/Frameworks/R.framework/Resources/bin/R CMD INSTALL puma StartedAt: 2025-02-09 15:09:56 -0500 (Sun, 09 Feb 2025) EndedAt: 2025-02-09 15:09:58 -0500 (Sun, 09 Feb 2025) EllapsedTime: 1.8 seconds RetCode: 1 Status: ERROR