Package: puma Version: 3.49.0 Command: /Library/Frameworks/R.framework/Resources/bin/R CMD INSTALL puma StartedAt: 2025-02-12 15:16:16 -0500 (Wed, 12 Feb 2025) EndedAt: 2025-02-12 15:16:17 -0500 (Wed, 12 Feb 2025) EllapsedTime: 1.5 seconds RetCode: 1 Status: ERROR