Package: puma Version: 3.49.0 Command: /home/biocbuild/bbs-3.21-bioc/R/bin/R CMD check --install=check:puma.install-out.txt --library=/home/biocbuild/bbs-3.21-bioc/R/site-library --timings puma_3.49.0.tar.gz StartedAt: 2024-11-13 04:39:03 -0500 (Wed, 13 Nov 2024) EndedAt: 2024-11-13 04:48:17 -0500 (Wed, 13 Nov 2024) EllapsedTime: 554.5 seconds RetCode: 0 Status: OK CheckDir: puma.Rcheck Warnings: 0