Package: puma Version: 3.49.0 Command: rm -rf puma.buildbin-libdir && mkdir puma.buildbin-libdir && E:\biocbuild\bbs-3.21-bioc\R\bin\R.exe CMD INSTALL --build --library=puma.buildbin-libdir puma_3.49.0.tar.gz StartedAt: 2025-01-22 08:18:31 -0500 (Wed, 22 Jan 2025) EndedAt: 2025-01-22 08:19:54 -0500 (Wed, 22 Jan 2025) EllapsedTime: 83.5 seconds RetCode: 0 Status: OK PackageFile: puma_3.49.0.zip PackageFileSize: 3.903 MiB