Package: puma Version: 3.49.0 Command: chmod a+r puma -R && E:\biocbuild\bbs-3.21-bioc\R\bin\R.exe CMD build --keep-empty-dirs --no-resave-data puma StartedAt: 2025-02-09 20:54:27 -0500 (Sun, 09 Feb 2025) EndedAt: 2025-02-09 20:54:45 -0500 (Sun, 09 Feb 2025) EllapsedTime: 17.8 seconds RetCode: 1 Status: ERROR PackageFile: None PackageFileSize: NA