Package: puma Version: 3.49.0 Command: E:\biocbuild\bbs-3.21-bioc\R\bin\R.exe CMD check --no-multiarch --install=check:puma.install-out.txt --library=E:\biocbuild\bbs-3.21-bioc\R\library --no-vignettes --timings puma_3.49.0.tar.gz StartedAt: 2025-01-22 04:22:08 -0500 (Wed, 22 Jan 2025) EndedAt: 2025-01-22 04:28:07 -0500 (Wed, 22 Jan 2025) EllapsedTime: 358.6 seconds RetCode: 0 Status: OK CheckDir: puma.Rcheck Warnings: 0