Package: puma Version: 3.49.0 Command: E:\biocbuild\bbs-3.21-bioc\R\bin\R.exe CMD INSTALL puma StartedAt: 2025-02-09 16:15:36 -0500 (Sun, 09 Feb 2025) EndedAt: 2025-02-09 16:15:48 -0500 (Sun, 09 Feb 2025) EllapsedTime: 11.6 seconds RetCode: 1 Status: ERROR