Package: pvac Version: 1.55.0 Command: /Library/Frameworks/R.framework/Resources/bin/R CMD build --keep-empty-dirs --no-resave-data pvac StartedAt: 2025-02-04 17:18:25 -0500 (Tue, 04 Feb 2025) EndedAt: 2025-02-04 17:18:42 -0500 (Tue, 04 Feb 2025) EllapsedTime: 17.2 seconds RetCode: 0 Status: OK PackageFile: pvac_1.55.0.tar.gz PackageFileSize: 258.3 KiB